BEGIN:VCALENDAR
VERSION:2.0
PRODID:-//https://www.hellasnetwork.gr///NONSGML kigkonsult.se iCalcreator 2.10.15//
METHOD:PUBLISH
BEGIN:VEVENT
UID:20260420T104200UTC-81751Z7TLG@https://www.hellasnetwork.gr/
DTSTAMP:20260420T104200Z
DESCRIPTION:&Sigma\;&epsilon\;&mu\;&iota\;&nu\;ά&rho\;&iota\;&alpha\;&nbsp\
 ;&Epsilon\;&xi\;&upsilon\;&pi\;&eta\;&rho\;έ&tau\;&eta\;&sigma\;&eta\;&sig
 maf\; &Pi\;&epsilon\;&lambda\;&alpha\;&tau\;ώ&nu\; &sigma\;&epsilon\; &kap
 pa\;&alpha\;&iota\;&rho\;ό &Kappa\;&rho\;ί&sigma\;&eta\;&sigmaf\;.\n&Delta
 \;&iota\;ά&rho\;&kappa\;&epsilon\;&iota\;&alpha\;: 8 ώ&rho\;&epsilon\;&sig
 maf\;&Kappa\;ό&sigma\;&tau\;&omicron\;&sigmaf\;: &euro\; 250\nΏ&rho\;&epsi
 lon\;&sigmaf\; &Delta\;&iota\;&epsilon\;&xi\;&alpha\;&gamma\;&omega\;&gamm
 a\;ή&sigmaf\; &Sigma\;&epsilon\;&mu\;&iota\;&nu\;&alpha\;&rho\;ί&omicron\;
 &upsilon\;:&Kappa\;&alpha\;&theta\;&eta\;&mu\;&epsilon\;&rho\;&iota\;&nu\;
 ά: 10.00-13.00\, ή 13.00-16.00\, ή 16.00-19.00\, ή 19.00-22.00&Sigma\;ά&be
 ta\;&beta\;&alpha\;&tau\;&omicron\;: 10.00-13.00\n&Mu\;&epsilon\; &tau\;&e
 ta\;&nu\; &pi\;&alpha\;&rho\;&alpha\;&kappa\;&omicron\;&lambda\;&omicron\;
 ύ&theta\;&eta\;&sigma\;&eta\; &tau\;&omicron\;&upsilon\; &sigma\;&epsilon\
 ;&mu\;&iota\;&nu\;&alpha\;&rho\;ί&omicron\;&upsilon\;\, &sigma\;&alpha\;&s
 igmaf\; &pi\;&rho\;&omicron\;&sigma\;&phi\;έ&rho\;&omicron\;&upsilon\;&mu\
 ;&epsilon\; &epsilon\;&pi\;&iota\;&pi\;&lambda\;έ&omicron\;&nu\;:\n&bull\;
 &nbsp\;&nbsp\;&nbsp\; &Beta\;&epsilon\;&beta\;&alpha\;ί&omega\;&sigma\;&et
 a\; &Pi\;&alpha\;&rho\;&alpha\;&kappa\;&omicron\;&lambda\;&omicron\;ύ&thet
 a\;&eta\;&sigma\;&eta\;&sigmaf\;&bull\;&nbsp\;&nbsp\;&nbsp\; &Pi\;&rho\;&o
 micron\;ώ&theta\;&eta\;&sigma\;&eta\; &Beta\;&iota\;&omicron\;&gamma\;&rho
 \;&alpha\;&phi\;&iota\;&kappa\;&omicron\;ύ &sigma\;&epsilon\; &Epsilon\;&l
 ambda\;&lambda\;&eta\;&nu\;&iota\;&kappa\;έ&sigmaf\; &amp\; &Pi\;&omicron\
 ;&lambda\;&upsilon\;&epsilon\;&theta\;&nu\;&iota\;&kappa\;έ&sigmaf\; &Epsi
 lon\;&pi\;&iota\;&chi\;&epsilon\;&iota\;&rho\;ή&sigma\;&epsilon\;&iota\;&s
 igmaf\;.\n&Epsilon\;&Kappa\;&Pi\;&Alpha\;&Iota\;&Delta\;&Epsilon\;&Upsilon
 \;&Tau\;&Iota\;&Kappa\;&Eta\; &Upsilon\;&Lambda\;&Eta\; (8 ώ&rho\;&epsilon
 \;&sigmaf\;):\n1. &Gamma\;&iota\;&alpha\;&tau\;ί &eta\; &epsilon\;&xi\;&up
 silon\;&pi\;&eta\;&rho\;έ&tau\;&eta\;&sigma\;&eta\; &epsilon\;ί&nu\;&alpha
 \;&iota\; &sigma\;&eta\;&mu\;&alpha\;&nu\;&tau\;&iota\;&kappa\;ή2. &Eta\;&
 gamma\;&epsilon\;&sigma\;ί&alpha\;: &Pi\;ό&sigma\;&omicron\; &sigma\;&eta\
 ;&mu\;&alpha\;&nu\;&tau\;&iota\;&kappa\;ή &epsilon\;ί&nu\;&alpha\;&iota\; 
 &sigma\;&tau\;&eta\;&nu\; &epsilon\;&xi\;&upsilon\;&pi\;&eta\;&rho\;έ&tau\
 ;&eta\;&sigma\;&eta\;3. &Pi\;&omicron\;&iota\;ό&tau\;&eta\;&tau\;&alpha\; 
 &Upsilon\;&pi\;&eta\;&rho\;&epsilon\;&sigma\;&iota\;ώ&nu\;4. &Epsilon\;&si
 gma\;&tau\;ί&alpha\;&sigma\;&eta\; &sigma\;&tau\;&omicron\;&upsilon\;&sigm
 af\; &pi\;&epsilon\;&lambda\;ά&tau\;&epsilon\;&sigmaf\;5. &Pi\;&rho\;ό&tau
 \;&upsilon\;&pi\;&alpha\; &epsilon\;&xi\;&upsilon\;&pi\;&eta\;&rho\;έ&tau\
 ;&eta\;&sigma\;&eta\;&sigmaf\;6. &Pi\;&alpha\;&rho\;ά&pi\;&omicron\;&nu\;&
 alpha\; &kappa\;&alpha\;&iota\; &delta\;&iota\;&alpha\;&chi\;&epsilon\;ί&r
 ho\;&iota\;&sigma\;ή &tau\;&omicron\;&upsilon\;&sigmaf\;7. &Sigma\;&upsilo
 n\;&nu\;&alpha\;&iota\;&sigma\;&theta\;&eta\;&mu\;&alpha\;&tau\;&iota\;&ka
 ppa\;ή &Nu\;&omicron\;&eta\;&mu\;&omicron\;&sigma\;ύ&nu\;&eta\;8. &Gamma\;
 &lambda\;ώ&sigma\;&sigma\;&alpha\; &Sigma\;ώ&mu\;&alpha\;&tau\;&omicron\;&
 sigmaf\;9. &Tau\;ύ&pi\;&omicron\;&iota\; &Pi\;&epsilon\;&lambda\;&alpha\;&
 tau\;ώ&nu\; &kappa\;&alpha\;&iota\; &epsilon\;&xi\;&upsilon\;&pi\;&eta\;&r
 ho\;έ&tau\;&eta\;&sigma\;ή &tau\;&omicron\;&upsilon\;&sigmaf\;10. &Omicron
 \;&mu\;ά&delta\;&epsilon\;&sigmaf\; &kappa\;&alpha\;&tau\;&alpha\;&nu\;&al
 pha\;&lambda\;&omega\;&tau\;ώ&nu\; &kappa\;&alpha\;&iota\; &chi\;&alpha\;&
 rho\;&alpha\;&kappa\;&tau\;&eta\;&rho\;&iota\;&sigma\;&tau\;&iota\;&kappa\
 ;ά &tau\;&omicron\;&upsilon\;&sigmaf\; (&Phi\;ό&beta\;&omicron\;&iota\;\, 
 &Alpha\;&nu\;&tau\;&iota\;&delta\;&rho\;ά&sigma\;&epsilon\;&iota\;&sigmaf\
 ;\, &Alpha\;&nu\;&tau\;&iota\;&mu\;&epsilon\;&tau\;ώ&pi\;&iota\;&sigma\;&e
 ta\;)\n&Epsilon\;&pi\;&iota\;&lambda\;έ&xi\;&tau\;&epsilon\; &tau\;&omicro
 n\; &pi\;&rho\;ό&gamma\;&rho\;&alpha\;&mu\;&mu\;&alpha\; &pi\;&omicron\;&u
 psilon\; &sigma\;&alpha\;&sigmaf\; &epsilon\;&nu\;&delta\;&iota\;&alpha\;&
 phi\;έ&rho\;&epsilon\;&iota\; &kappa\;&alpha\;&iota\; &alpha\;&pi\;&omicro
 n\;&kappa\;&tau\;ή&sigma\;&tau\;&epsilon\; &kappa\;&alpha\;&iota\; &epsilo
 n\;&sigma\;&epsilon\;ί&sigmaf\; &tau\;&iota\;&sigmaf\; &gamma\;&nu\;ώ&sigm
 a\;&epsilon\;&iota\;&sigmaf\; &pi\;&omicron\;&upsilon\; &alpha\;&pi\;έ&kap
 pa\;&tau\;&eta\;&sigma\;&alpha\;&nu\; &sigma\;&epsilon\; &epsilon\;&mu\;ά&
 sigmaf\; &chi\;&iota\;&lambda\;&iota\;ά&delta\;&epsilon\;&sigmaf\; ά&nu\;&
 theta\;&rho\;&omega\;&pi\;&omicron\;&iota\; &pi\;&omicron\;&upsilon\; &mu\
 ;&alpha\;&sigmaf\; &epsilon\;&mu\;&pi\;&iota\;&sigma\;&tau\;&epsilon\;ύ&th
 eta\;&eta\;&kappa\;&alpha\;&nu\; &alpha\;&pi\;ό &tau\;&omicron\; 1992 έ&om
 ega\;&sigmaf\; &sigma\;ή&mu\;&epsilon\;&rho\;&alpha\;...&nbsp\; https://ww
 w.hellasnetwork.gr/σεμιναρια/εναρξεις/event/186-σεμινάρια-εξυπηρέτησης-πελ
 ατών-σε-καιρό-κρίσης.html
DTSTART;VALUE=DATE:20160115
LOCATION:Hellas Network Co ΚΔΒΜ (Ακαδημίας 52\, Αθήνα 106 79\, Ελλάδα)
SUMMARY:Σεμινάρια Εξυπηρέτησης Πελατών σε καιρό Κρίσης.
URL:https://www.hellasnetwork.gr/σεμιναρια/εναρξεις/event/186-σεμινάρια-εξυ
 πηρέτησης-πελατών-σε-καιρό-κρίσης.html
END:VEVENT
END:VCALENDAR
