BEGIN:VCALENDAR
VERSION:2.0
PRODID:-//https://www.hellasnetwork.gr///NONSGML kigkonsult.se iCalcreator 2.10.15//
METHOD:PUBLISH
BEGIN:VEVENT
UID:20260420T120528UTC-1144247hU2@https://www.hellasnetwork.gr/
DTSTAMP:20260420T120528Z
DESCRIPTION:&Sigma\;&epsilon\;&mu\;&iota\;&nu\;ά&rho\;&iota\;&alpha\; &gamm
 a\;&iota\;&alpha\; &epsilon\;&kappa\;&mu\;ά&theta\;&eta\;&sigma\;&eta\; &t
 au\;&omega\;&nu\; Photoshop\, CorelDraw\, Illustrator &gamma\;&iota\;&alph
 a\; Graphic Designer 50 &omega\;&rho\;ώ&nu\;\n\n\n&nbsp\;\n\n\n\n&Sigma\;&
 epsilon\;&mu\;&iota\;&nu\;ά&rho\;&iota\;&omicron\; &Epsilon\;&pi\;&alpha\;
 &gamma\;&gamma\;&epsilon\;&lambda\;&mu\;&alpha\;&tau\;&iota\;&kappa\;ή&sig
 maf\; &Epsilon\;&pi\;&epsilon\;&xi\;&epsilon\;&rho\;&gamma\;&alpha\;&sigma
 \;ί&alpha\;&sigmaf\; &Epsilon\;&iota\;&kappa\;ό&nu\;&alpha\;&sigmaf\; &amp
 \; &Phi\;&omega\;&tau\;&omicron\;&gamma\;&rho\;&alpha\;&phi\;ί&alpha\;&sig
 maf\;\, &Delta\;&eta\;&mu\;&iota\;&omicron\;&upsilon\;&rho\;&gamma\;ί&alph
 a\;&sigmaf\; &Delta\;&iota\;&alpha\;&phi\;&eta\;&mu\;&iota\;&sigma\;&tau\;
 &iota\;&kappa\;ώ&nu\; &Epsilon\;&nu\;&tau\;ύ&pi\;&omega\;&nu\; &kappa\;&al
 pha\;&iota\; &Gamma\;&rho\;&alpha\;&phi\;&iota\;&kappa\;ώ&nu\; &mu\;&epsil
 on\; &tau\;&eta\; &chi\;&rho\;ή&sigma\;&eta\; &tau\;&omega\;&nu\;: Photosh
 op\, Corel\, Illustrator.\n\n&Eta\; &Mu\;&epsilon\;&gamma\;&alpha\;&lambda
 \;ύ&tau\;&epsilon\;&rho\;&eta\; &Pi\;&rho\;&omicron\;&sigma\;&phi\;&omicro
 n\;&rho\;ά &gamma\;&iota\;&alpha\; &Epsilon\;&pi\;&alpha\;&gamma\;&gamma\;
 &epsilon\;&lambda\;&mu\;&alpha\;&tau\;&iota\;&kappa\;ή &Sigma\;&tau\;&alph
 a\;&delta\;&iota\;&omicron\;&delta\;&rho\;&omicron\;&mu\;ί&alpha\; &sigma\
 ;&tau\;&eta\; &gamma\;&rho\;&alpha\;&phi\;&iota\;&sigma\;&tau\;&iota\;&kap
 pa\;ή.&Theta\;έ&lambda\;&epsilon\;&tau\;&epsilon\; &nu\;&alpha\; &gamma\;ί
 &nu\;&epsilon\;&tau\;&epsilon\; &kappa\;&alpha\;&iota\; &epsilon\;&sigma\;
 &epsilon\;ί&sigmaf\; &epsilon\;&pi\;&alpha\;&gamma\;&gamma\;&epsilon\;&lam
 bda\;&mu\;&alpha\;&tau\;ί&alpha\;&sigmaf\; &gamma\;&rho\;&alpha\;&phi\;ί&s
 igma\;&tau\;&alpha\;&sigmaf\;\; &Eta\; &alpha\;&rho\;&chi\;ή &gamma\;ί&nu\
 ;&epsilon\;&tau\;&alpha\;&iota\; &sigma\;&tau\;&alpha\; &epsilon\;&rho\;&g
 amma\;&alpha\;&sigma\;&tau\;ή&rho\;&iota\;&alpha\; &tau\;&eta\;&sigmaf\; H
 ellas Network!\n&Tau\;&alpha\; &pi\;&rho\;&omicron\;&gamma\;&rho\;ά&mu\;&m
 u\;&alpha\;&tau\;&alpha\; Graphic Design &tau\;&eta\;&sigmaf\; Hellas Netw
 ork\, &pi\;&rho\;&omicron\;&sigma\;&phi\;έ&rho\;&omicron\;&upsilon\;&nu\; 
 ό&lambda\;&epsilon\;&sigmaf\; &tau\;&iota\;&sigmaf\; &alpha\;&pi\;&alpha\;
 &rho\;&alpha\;ί&tau\;&eta\;&tau\;&epsilon\;&sigmaf\; &gamma\;&nu\;ώ&sigma\
 ;&epsilon\;&iota\;&sigmaf\; &kappa\;&alpha\;&iota\; &tau\;&eta\;&nu\; &alp
 ha\;&upsilon\;&tau\;&omicron\;&pi\;&epsilon\;&pi\;&omicron\;ί&theta\;&eta\
 ;&sigma\;&eta\; &pi\;&omicron\;&upsilon\; &chi\;&rho\;&epsilon\;&iota\;ά&z
 eta\;&omicron\;&nu\;&tau\;&alpha\;&iota\; &omicron\;&iota\; &epsilon\;&pi\
 ;&alpha\;&gamma\;&gamma\;&epsilon\;&lambda\;&mu\;&alpha\;&tau\;ί&epsilon\;
 &sigmaf\; &tau\;&omicron\;&upsilon\; &sigma\;ή&mu\;&epsilon\;&rho\;&alpha\
 ;! &Nu\;έ&epsilon\;&sigmaf\; &mu\;έ&theta\;&omicron\;&delta\;&omicron\;&io
 ta\;\, &mu\;&omicron\;&nu\;&tau\;έ&rho\;&nu\;&alpha\; &pi\;&rho\;&omicron\
 ;&sigma\;έ&gamma\;&gamma\;&iota\;&sigma\;&eta\;\, &beta\;&alpha\;&theta\;&
 iota\;ά &gamma\;&nu\;ώ&sigma\;&eta\; &tau\;&omicron\;&upsilon\; &alpha\;&n
 u\;&tau\;&iota\;&kappa\;&epsilon\;&iota\;&mu\;έ&nu\;&omicron\;&upsilon\; &
 kappa\;&alpha\;&iota\; &pi\;&rho\;&omega\;&tau\;&omicron\;&tau\;&upsilon\;
 &pi\;ί&alpha\; &sigma\;&tau\;&eta\;&nu\; &pi\;&rho\;&omicron\;&beta\;&omic
 ron\;&lambda\;ή &kappa\;&alpha\;&iota\; &tau\;&eta\; &delta\;&iota\;&alpha
 \;&phi\;ή&mu\;&iota\;&sigma\;&eta\;.\nΌ&lambda\;&alpha\; &alpha\;&upsilon\
 ;&tau\;ά &tau\;&alpha\; &sigma\;&tau\;&omicron\;&iota\;&chi\;&epsilon\;ί&a
 lpha\; &delta\;&eta\;&lambda\;&alpha\;&delta\;ή\, &pi\;&omicron\;&upsilon\
 ; &chi\;&rho\;&epsilon\;&iota\;ά&zeta\;&epsilon\;&tau\;&alpha\;&iota\; &nu
 \;&alpha\; &delta\;&iota\;&alpha\;&theta\;έ&tau\;&epsilon\;&tau\;&epsilon\
 ; &gamma\;&iota\;&alpha\; &nu\;&alpha\; &delta\;&iota\;&alpha\;&pi\;&rho\;
 έ&psi\;&epsilon\;&tau\;&epsilon\; &sigma\;&tau\;&omicron\;&nu\; &alpha\;&p
 i\;&alpha\;&iota\;&tau\;&eta\;&tau\;&iota\;&kappa\;ό &chi\;ώ&rho\;&omicron
 \; &tau\;&eta\;&sigmaf\; &gamma\;&rho\;&alpha\;&phi\;&iota\;&sigma\;&tau\;
 &iota\;&kappa\;ή&sigmaf\; &kappa\;&alpha\;&iota\; &tau\;&eta\;&sigmaf\; &d
 elta\;&eta\;&mu\;&iota\;&omicron\;&upsilon\;&rho\;&gamma\;ί&alpha\;&sigmaf
 \;.&Delta\;&eta\;&lambda\;ώ&sigma\;&tau\;&epsilon\; &sigma\;&upsilon\;&mu\
 ;&mu\;&epsilon\;&tau\;&omicron\;&chi\;ή &sigma\;&epsilon\; έ&nu\;&alpha\; 
 &alpha\;&pi\;ό &tau\;&alpha\; &sigma\;&epsilon\;&mu\;&iota\;&nu\;ά&rho\;&i
 ota\;&alpha\; &gamma\;&rho\;&alpha\;&phi\;&iota\;&sigma\;&tau\;&iota\;&kap
 pa\;ή&sigmaf\; &kappa\;&alpha\;&iota\; &alpha\;&pi\;&omicron\;&kappa\;&tau
 \;ή&sigma\;&tau\;&epsilon\; ό&lambda\;&alpha\; &tau\;&alpha\; &epsilon\;&p
 hi\;ό&delta\;&iota\;&alpha\; &gamma\;&iota\;&alpha\; &tau\;&eta\;&nu\; &ep
 silon\;&pi\;&alpha\;&gamma\;&gamma\;&epsilon\;&lambda\;&mu\;&alpha\;&tau\;
 &iota\;&kappa\;ή &sigma\;&alpha\;&sigmaf\; &kappa\;&alpha\;&tau\;&alpha\;&
 xi\;ί&omega\;&sigma\;&eta\;.\n&Delta\;&iota\;ά&rho\;&kappa\;&epsilon\;&iot
 a\;&alpha\;: 50 ώ&rho\;&epsilon\;&sigmaf\;&Kappa\;ό&sigma\;&tau\;&omicron\
 ;&sigmaf\;: &euro\; 495\nΏ&rho\;&epsilon\;&sigmaf\; &Delta\;&iota\;&epsilo
 n\;&xi\;&alpha\;&gamma\;&omega\;&gamma\;ή&sigmaf\; &Sigma\;&epsilon\;&mu\;
 &iota\;&nu\;&alpha\;&rho\;ί&omicron\;&upsilon\;:&Kappa\;&alpha\;&theta\;&e
 ta\;&mu\;&epsilon\;&rho\;&iota\;&nu\;ά: 10.00-13.00\, ή 13.00-16.00\, ή 16
 .00-19.00\, ή 19.00-22.00&Sigma\;ά&beta\;&beta\;&alpha\;&tau\;&omicron\;: 
 10.00-13.00\n&Mu\;&epsilon\; &tau\;&eta\;&nu\; &pi\;&alpha\;&rho\;&alpha\;
 &kappa\;&omicron\;&lambda\;&omicron\;ύ&theta\;&eta\;&sigma\;&eta\; &tau\;&
 omicron\;&upsilon\; &sigma\;&epsilon\;&mu\;&iota\;&nu\;&alpha\;&rho\;ί&omi
 cron\;&upsilon\;\, &sigma\;&alpha\;&sigmaf\; &pi\;&rho\;&omicron\;&sigma\;
 &phi\;έ&rho\;&omicron\;&upsilon\;&mu\;&epsilon\; &epsilon\;&pi\;&iota\;&pi
 \;&lambda\;έ&omicron\;&nu\;:\n&bull\;&nbsp\;&nbsp\;&nbsp\; &Beta\;&epsilon
 \;&beta\;&alpha\;ί&omega\;&sigma\;&eta\; &Pi\;&alpha\;&rho\;&alpha\;&kappa
 \;&omicron\;&lambda\;&omicron\;ύ&theta\;&eta\;&sigma\;&eta\;&sigmaf\;&bull
 \;&nbsp\;&nbsp\;&nbsp\; &Alpha\;&pi\;&epsilon\;&rho\;&iota\;ό&rho\;&iota\;
 &sigma\;&tau\;&eta\; &Pi\;&rho\;&alpha\;&kappa\;&tau\;&iota\;&kappa\;ή &Ep
 silon\;&xi\;ά&sigma\;&kappa\;&eta\;&sigma\;&eta\; &kappa\;&alpha\;&iota\; 
 Internet&bull\;&nbsp\;&nbsp\;&nbsp\; &Pi\;&rho\;&omicron\;ώ&theta\;&eta\;&
 sigma\;&eta\; &Beta\;&iota\;&omicron\;&gamma\;&rho\;&alpha\;&phi\;&iota\;&
 kappa\;&omicron\;ύ &sigma\;&epsilon\; &Epsilon\;&lambda\;&lambda\;&eta\;&n
 u\;&iota\;&kappa\;έ&sigmaf\; &amp\; &Pi\;&omicron\;&lambda\;&upsilon\;&eps
 ilon\;&theta\;&nu\;&iota\;&kappa\;έ&sigmaf\; &Epsilon\;&pi\;&iota\;&chi\;&
 epsilon\;&iota\;&rho\;ή&sigma\;&epsilon\;&iota\;&sigmaf\;.\n\n&Epsilon\;&K
 appa\;&Pi\;&Alpha\;&Iota\;&Delta\;&Epsilon\;&Upsilon\;&Tau\;&Iota\;&Kappa\
 ;&Eta\; &Upsilon\;&Lambda\;&Eta\;:\nADOBE PHOTOSHOP (25 ώ&rho\;&epsilon\;&
 sigmaf\;)\n&bull\;&nbsp\;&nbsp\;&nbsp\;&nbsp\; &Epsilon\;&iota\;&sigma\;&a
 lpha\;&gamma\;&omega\;&gamma\;ή &sigma\;&tau\;&omicron\; &pi\;&rho\;ό&gamm
 a\;&rho\;&alpha\;&mu\;&mu\;&alpha\;&bull\;&nbsp\;&nbsp\;&nbsp\; &nbsp\;&Ep
 silon\;&rho\;&gamma\;&alpha\;&lambda\;&epsilon\;ί&alpha\; - &Pi\;&alpha\;&
 rho\;&alpha\;&delta\;&epsilon\;ί&gamma\;&mu\;&alpha\;&tau\;&alpha\; &kappa
 \;&alpha\;&iota\; &Alpha\;&sigma\;&kappa\;ή&sigma\;&epsilon\;&iota\;&sigma
 f\;&bull\;&nbsp\;&nbsp\;&nbsp\; &nbsp\;&Beta\;itmap Graphics (&iota\;&delt
 a\;&iota\;ό&tau\;&eta\;&tau\;&epsilon\;&sigmaf\; &kappa\;&alpha\;&iota\; &
 chi\;&rho\;ή&sigma\;&eta\;)&bull\;&nbsp\;&nbsp\;&nbsp\; &nbsp\;&Delta\;&io
 ta\;&alpha\;&sigma\;&tau\;ά&sigma\;&epsilon\;&iota\;&sigmaf\; - &Alpha\;&n
 u\;ά&lambda\;&upsilon\;&sigma\;&eta\; - &Chi\;&rho\;&omega\;&mu\;&alpha\;&
 tau\;&iota\;&kappa\;ά &sigma\;&upsilon\;&sigma\;&tau\;ή&mu\;&alpha\;&tau\;
 &alpha\;&bull\;&nbsp\;&nbsp\;&nbsp\; &nbsp\;&Rho\;ύ&theta\;&mu\;&iota\;&si
 gma\;&eta\; &Pi\;&rho\;&omicron\;&delta\;&iota\;&alpha\;&gamma\;&rho\;&alp
 ha\;&phi\;ώ&nu\; &Epsilon\;&phi\;&alpha\;&rho\;&mu\;&omicron\;&gamma\;ή&si
 gmaf\; (Preferences)&bull\;&nbsp\;&nbsp\;&nbsp\; &nbsp\;&Mu\;&omicron\;&nu
 \;ά&delta\;&epsilon\;&sigmaf\; &Mu\;έ&tau\;&rho\;&eta\;&sigma\;&eta\;&sigm
 af\;&bull\;&nbsp\;&nbsp\;&nbsp\; &nbsp\;&Chi\;&rho\;ή&sigma\;&eta\; &pi\;&
 alpha\;&lambda\;έ&tau\;&alpha\;&sigmaf\; Layers &kappa\;&alpha\;&iota\; La
 yer Set&bull\;&nbsp\;&nbsp\;&nbsp\; &nbsp\;&Chi\;&rho\;ώ&mu\;&alpha\;&tau\
 ;&alpha\; &kappa\;&alpha\;&iota\; &Epsilon\;&pi\;&epsilon\;&xi\;&epsilon\;
 &rho\;&gamma\;&alpha\;&sigma\;ί&alpha\; &tau\;&omicron\;&upsilon\;&sigmaf\
 ;&bull\;&nbsp\;&nbsp\;&nbsp\; &nbsp\;&Lambda\;&epsilon\;&iota\;&tau\;&omic
 ron\;&upsilon\;&rho\;&gamma\;ί&alpha\; &pi\;&alpha\;&lambda\;έ&tau\;&alpha
 \;&sigmaf\; History&bull\;&nbsp\;&nbsp\;&nbsp\;&nbsp\; &Chi\;&rho\;ή&sigma
 \;&eta\; Guides &amp\; Rulers &kappa\;&alpha\;&iota\; &Rho\;ύ&theta\;&mu\;
 &iota\;&sigma\;&eta\; &Mu\;&omicron\;&nu\;ά&delta\;&alpha\;&sigmaf\; &Mu\;
 έ&tau\;&rho\;&eta\;&sigma\;ή&sigmaf\; &tau\;&omicron\;&upsilon\;&sigmaf\;&
 bull\;&nbsp\;&nbsp\;&nbsp\; &nbsp\;&Chi\;&rho\;&omega\;&mu\;&alpha\;&tau\;
 &iota\;&kappa\;ή &kappa\;&alpha\;&iota\; &Tau\;&omicron\;&nu\;&iota\;&kapp
 a\;ή &Epsilon\;&pi\;&epsilon\;&xi\;&epsilon\;&rho\;&gamma\;&alpha\;&sigma\
 ;ί&alpha\; &Epsilon\;&iota\;&kappa\;ό&nu\;&omega\;&nu\;&bull\;&nbsp\;&nbsp
 \;&nbsp\; &nbsp\;&Chi\;&rho\;ή&sigma\;&eta\; &Kappa\;&epsilon\;&iota\;&mu\
 ;έ&nu\;&omicron\;&upsilon\;\, &Iota\;&delta\;&iota\;ό&tau\;&eta\;&tau\;&ep
 silon\;&sigmaf\; &kappa\;&alpha\;&iota\; &Epsilon\;&pi\;&epsilon\;&xi\;&ep
 silon\;&rho\;&gamma\;&alpha\;&sigma\;ί&alpha\; &tau\;&omicron\;&upsilon\;&
 bull\;&nbsp\;&nbsp\;&nbsp\; &nbsp\;&Tau\;&rho\;&omicron\;&pi\;&omicron\;&p
 i\;&omicron\;ί&eta\;&sigma\;&eta\; &Epsilon\;&pi\;&iota\;&lambda\;&epsilon
 \;&gamma\;&mu\;έ&nu\;&omicron\;&upsilon\; &Sigma\;&chi\;ή&mu\;&alpha\;&tau
 \;&omicron\;&sigmaf\;&bull\;&nbsp\;&nbsp\;&nbsp\; &nbsp\;&Pi\;&rho\;&omicr
 on\;&sigma\;&theta\;ή&kappa\;&eta\; &Epsilon\;&phi\;έ &sigma\;&epsilon\; &
 alpha\;&nu\;&tau\;&iota\;&kappa\;&epsilon\;ί&mu\;&epsilon\;&nu\;&alpha\;&b
 ull\;&nbsp\;&nbsp\;&nbsp\; &nbsp\;&Chi\;&rho\;ή&sigma\;&eta\; &tau\;&omicr
 on\;&upsilon\; &epsilon\;&rho\;&gamma\;&alpha\;&lambda\;&epsilon\;ί&omicro
 n\;&upsilon\; &pi\;&epsilon\;&nu\;ά&kappa\;&iota\; (&tau\;&epsilon\;&chi\;
 &nu\;&iota\;&kappa\;έ&sigmaf\; &xi\;&epsilon\;&gamma\;&upsilon\;&rho\;ί&si
 gma\;&mu\;&alpha\;&tau\;&omicron\;&sigmaf\;)&bull\;&nbsp\;&nbsp\;&nbsp\; &
 nbsp\;&Delta\;&eta\;&mu\;&iota\;&omicron\;&upsilon\;&rho\;&gamma\;ί&alpha\
 ; &mu\;&alpha\;&sigma\;&kappa\;ώ&nu\; &kappa\;&alpha\;&iota\; &epsilon\;&p
 i\;&epsilon\;&xi\;&epsilon\;&rho\;&gamma\;&alpha\;&sigma\;ί&alpha\; &tau\;
 &omicron\;&upsilon\;&sigmaf\;&bull\;&nbsp\;&nbsp\;&nbsp\; &nbsp\;&Phi\;ί&l
 ambda\;&tau\;&rho\;&alpha\; &kappa\;&alpha\;&iota\; &Delta\;&eta\;&mu\;&io
 ta\;&omicron\;&upsilon\;&rho\;&gamma\;ί&alpha\; &Epsilon\;&iota\;&kappa\;&
 omicron\;&nu\;&omicron\;&gamma\;&rho\;ά&phi\;&eta\;&sigma\;&eta\;&sigmaf\;
  &mu\;&epsilon\; &chi\;&rho\;ή&sigma\;&eta\; &tau\;&omicron\;&upsilon\;&si
 gmaf\;&bull\;&nbsp\;&nbsp\;&nbsp\; &nbsp\;Formats &Alpha\;&pi\;&omicron\;&
 theta\;ή&kappa\;&epsilon\;&upsilon\;&sigma\;&eta\;&sigmaf\; &Alpha\;&rho\;
 &chi\;&epsilon\;ί&omega\;&nu\;&bull\;&nbsp\;&nbsp\;&nbsp\; &nbsp\;&Delta\;
 &eta\;&mu\;&iota\;&omicron\;&upsilon\;&rho\;&gamma\;ί&alpha\; &Tau\;&epsil
 on\;&lambda\;&iota\;&kappa\;&omicron\;ύ &Alpha\;&rho\;&chi\;&epsilon\;ί&om
 icron\;&upsilon\;&bull\;&nbsp\;&nbsp\;&nbsp\; &nbsp\;&Epsilon\;&kappa\;&ta
 u\;ύ&pi\;&omega\;&sigma\;&eta\; &Alpha\;&rho\;&chi\;&epsilon\;ί&omicron\;&
 upsilon\;.\nADOBE ILLUSTRATOR (16 ώ&rho\;&epsilon\;&sigmaf\;)\n&bull\;&nbs
 p\;&nbsp\; &nbsp\; &Epsilon\;&iota\;&sigma\;&alpha\;&gamma\;&omega\;&gamma
 \;ή &sigma\;&tau\;&omicron\; &Pi\;&rho\;ό&gamma\;&rho\;&alpha\;&mu\;&mu\;&
 alpha\; - &Pi\;&alpha\;&rho\;&omicron\;&upsilon\;&sigma\;ί&alpha\;&sigma\;
 &eta\; &Epsilon\;&rho\;&gamma\;&alpha\;&lambda\;&epsilon\;ί&omega\;&nu\;&b
 ull\;&nbsp\;&nbsp\;&nbsp\; &nbsp\;&Pi\;&rho\;&omicron\;&delta\;&iota\;&alp
 ha\;&gamma\;&rho\;&alpha\;&phi\;έ&sigmaf\; &pi\;&rho\;&omicron\;&gamma\;&r
 ho\;ά&mu\;&mu\;&alpha\;&tau\;&omicron\;&sigmaf\; &kappa\;&alpha\;&iota\; &
 rho\;ύ&theta\;&mu\;&iota\;&sigma\;&eta\; &mu\;&omicron\;&nu\;ά&delta\;&ome
 ga\;&nu\; &mu\;έ&tau\;&rho\;&eta\;&sigma\;&eta\;&sigmaf\;&bull\;&nbsp\;&nb
 sp\;&nbsp\; &nbsp\;&Delta\;&iota\;&alpha\;&nu\;&upsilon\;&sigma\;&mu\;&alp
 ha\;&tau\;&iota\;&kappa\;ά &Gamma\;&rho\;&alpha\;&phi\;&iota\;&kappa\;ά (&
 iota\;&delta\;&iota\;ό&tau\;&eta\;&tau\;&epsilon\;&sigmaf\; &kappa\;&alpha
 \;&iota\; &chi\;&rho\;ή&sigma\;&eta\;)&bull\;&nbsp\;&nbsp\;&nbsp\; &nbsp\;
 &Delta\;&eta\;&mu\;&iota\;&omicron\;&upsilon\;&rho\;&gamma\;ί&alpha\; &nu\
 ;έ&omicron\;&upsilon\; &alpha\;&rho\;&chi\;&epsilon\;ί&omicron\;&upsilon\;
  (&delta\;&iota\;&alpha\;&sigma\;&tau\;ά&sigma\;&epsilon\;&iota\;&sigmaf\;
  - &chi\;&rho\;&omega\;&mu\;&alpha\;&tau\;&iota\;&kappa\;ό &sigma\;ύ&sigma
 \;&tau\;&eta\;&mu\;&alpha\;)&bull\;&nbsp\;&nbsp\;&nbsp\; &nbsp\;&Chi\;&rho
 \;ή&sigma\;&eta\; &chi\;&rho\;&omega\;&mu\;ά&tau\;&omega\;&nu\; &kappa\;&a
 lpha\;&iota\; &chi\;&rho\;&omega\;&mu\;&alpha\;&tau\;&iota\;&kappa\;ά &sig
 ma\;&upsilon\;&sigma\;&tau\;ή&mu\;&alpha\;&tau\;&alpha\;&bull\;&nbsp\;&nbs
 p\;&nbsp\; &nbsp\;&Chi\;&rho\;ή&sigma\;&eta\; &omicron\;&delta\;&eta\;&gam
 ma\;ώ&nu\; &kappa\;&alpha\;&iota\; &chi\;&alpha\;&rho\;ά&kappa\;&omega\;&n
 u\;&bull\;&nbsp\;&nbsp\;&nbsp\; &nbsp\;&Chi\;&rho\;ή&sigma\;&eta\; &kappa\
 ;&epsilon\;&iota\;&mu\;έ&nu\;&omicron\;&upsilon\; &kappa\;&alpha\;&iota\; 
 &Tau\;&rho\;&omicron\;&pi\;&omicron\;&pi\;&omicron\;ί&eta\;&sigma\;ή &tau\
 ;&omicron\;&upsilon\;&bull\;&nbsp\;&nbsp\;&nbsp\;&nbsp\; &Alpha\;&rho\;&ch
 i\;έ&sigmaf\; &Tau\;&upsilon\;&pi\;&omicron\;&gamma\;&rho\;&alpha\;&phi\;ί
 &alpha\;&sigmaf\;&bull\;&nbsp\;&nbsp\;&nbsp\; &nbsp\;&Gamma\;&epsilon\;&mu
 \;ί&sigma\;&mu\;&alpha\;&tau\;&alpha\; &amp\; &Pi\;&epsilon\;&rho\;&iota\;
 &gamma\;&rho\;ά&mu\;&mu\;&alpha\;&tau\;&alpha\;&bull\;&nbsp\;&nbsp\;&nbsp\
 ; &nbsp\;&Tau\;&rho\;&omicron\;&pi\;&omicron\;&pi\;&omicron\;ί&eta\;&sigma
 \;&eta\; &Alpha\;&nu\;&tau\;&iota\;&kappa\;&epsilon\;&iota\;&mu\;έ&nu\;&om
 ega\;&nu\; (&mu\;&epsilon\;&gamma\;έ&theta\;&upsilon\;&nu\;&sigma\;&eta\;\
 , &pi\;&epsilon\;&rho\;&iota\;&sigma\;&tau\;&rho\;&omicron\;&phi\;ή\, &pi\
 ;&alpha\;&rho\;&alpha\;&mu\;ό&rho\;&phi\;&omega\;&sigma\;&eta\;)&bull\;&nb
 sp\;&nbsp\;&nbsp\; &nbsp\;&Delta\;&eta\;&mu\;&iota\;&omicron\;&upsilon\;&r
 ho\;&gamma\;ί&alpha\; &Gamma\;&rho\;&alpha\;&phi\;&eta\;&mu\;ά&tau\;&omega
 \;&nu\;&bull\;&nbsp\;&nbsp\;&nbsp\; &nbsp\;&Epsilon\;&rho\;&gamma\;&alpha\
 ;&sigma\;ί&alpha\; &mu\;&epsilon\; &epsilon\;&pi\;ί&pi\;&epsilon\;&delta\;
 &alpha\; (Layers) &kappa\;&alpha\;&iota\; &Delta\;&iota\;&alpha\;&phi\;ά&n
 u\;&epsilon\;&iota\;&alpha\; (Transparency)&bull\;&nbsp\;&nbsp\;&nbsp\; &n
 bsp\;&Gamma\;&kappa\;&rho\;&omicron\;&upsilon\;&pi\;ά&rho\;&iota\;&sigma\;
 &mu\;&alpha\;&bull\;&nbsp\;&nbsp\;&nbsp\; &nbsp\;&Kappa\;&lambda\;&epsilon
 \;ί&delta\;&omega\;&mu\;&alpha\; &kappa\;&alpha\;&iota\; &Delta\;&iota\;&a
 lpha\;&chi\;&epsilon\;ί&rho\;&iota\;&sigma\;&eta\; &Alpha\;&nu\;&tau\;&iot
 a\;&kappa\;&epsilon\;&iota\;&mu\;έ&nu\;&omega\;&nu\;&bull\;&nbsp\;&nbsp\;&
 nbsp\; &nbsp\;&Sigma\;&chi\;&epsilon\;&delta\;ί&alpha\;&sigma\;&eta\; &mu\
 ;&epsilon\; &tau\;&omicron\; &Epsilon\;&rho\;&gamma\;&alpha\;&lambda\;&eps
 ilon\;ί&omicron\; &Pi\;&epsilon\;&nu\;ά&kappa\;&iota\; &kappa\;&alpha\;&io
 ta\; &Iota\;&delta\;&iota\;ό&tau\;&eta\;&tau\;έ&sigmaf\; &tau\;&omicron\;&
 upsilon\;&bull\;&nbsp\;&nbsp\;&nbsp\; &nbsp\;&Chi\;&rho\;ή&sigma\;&eta\; &
 Epsilon\;&phi\;έ &kappa\;&alpha\;&iota\; &Phi\;ί&lambda\;&tau\;&rho\;&omeg
 a\;&nu\;&bull\;&nbsp\;&nbsp\; &nbsp\; &Epsilon\;&iota\;&sigma\;&alpha\;&ga
 mma\;&omega\;&gamma\;ή &kappa\;&alpha\;&iota\; &Chi\;&rho\;ή&sigma\;&eta\;
  &Epsilon\;&iota\;&kappa\;ό&nu\;&omega\;&nu\; &kappa\;&alpha\;&iota\; &Del
 ta\;&eta\;&mu\;&iota\;&omicron\;&upsilon\;&rho\;&gamma\;ί&alpha\; &Mu\;&al
 pha\;&sigma\;&kappa\;ώ&nu\;&bull\;&nbsp\;&nbsp\;&nbsp\; &nbsp\;&Tau\;&epsi
 lon\;&chi\;&nu\;&iota\;&kappa\;έ&sigmaf\; &Sigma\;&chi\;&epsilon\;&delta\;
 ί&alpha\;&sigma\;&eta\;&sigmaf\; &kappa\;&alpha\;&iota\; &Epsilon\;&iota\;
 &kappa\;&omicron\;&nu\;&omicron\;&gamma\;&rho\;ά&phi\;&eta\;&sigma\;&eta\;
 &sigmaf\;&bull\;&nbsp\;&nbsp\;&nbsp\; &nbsp\;&Delta\;&eta\;&mu\;&iota\;&om
 icron\;&upsilon\;&rho\;&gamma\;ί&alpha\; &Tau\;&epsilon\;&lambda\;&iota\;&
 kappa\;&omicron\;ύ &Alpha\;&rho\;&chi\;&epsilon\;ί&omicron\;&upsilon\; &ka
 ppa\;&alpha\;&iota\; &Epsilon\;&kappa\;&tau\;ύ&pi\;&omega\;&sigma\;&eta\;.
 \n\nCOREL DRAW (9 ώ&rho\;&epsilon\;&sigmaf\;)\n&bull\;&nbsp\;&nbsp\; &nbsp
 \; &Epsilon\;&iota\;&sigma\;&alpha\;&gamma\;&omega\;&gamma\;&iota\;&kappa\
 ;ά &gamma\;&iota\;&alpha\; &tau\;&omicron\; &pi\;&rho\;ό&gamma\;&rho\;&alp
 ha\;&mu\;&mu\;&alpha\;&bull\;&nbsp\;&nbsp\; &nbsp\; Vector Graphics (&iota
 \;&delta\;&iota\;ό&tau\;&eta\;&tau\;&epsilon\;&sigmaf\; &kappa\;&alpha\;&i
 ota\; &chi\;&rho\;ή&sigma\;&eta\;)&bull\;&nbsp\;&nbsp\; &nbsp\; &Delta\;&e
 ta\;&mu\;&iota\;&omicron\;&upsilon\;&rho\;&gamma\;ί&alpha\; &nu\;έ&omicron
 \;&upsilon\; &alpha\;&rho\;&chi\;&epsilon\;ί&omicron\;&upsilon\; (&Delta\;
 &iota\;&alpha\;&sigma\;&tau\;ά&sigma\;&epsilon\;&iota\;&sigmaf\; - &Chi\;&
 rho\;&omega\;&mu\;&alpha\;&tau\;&iota\;&kappa\;ό &sigma\;ύ&sigma\;&tau\;&e
 ta\;&mu\;&alpha\;)&bull\;&nbsp\;&nbsp\; &nbsp\; &Chi\;&rho\;&omega\;&mu\;&
 alpha\;&tau\;&iota\;&kappa\;ά &sigma\;&upsilon\;&sigma\;&tau\;ή&mu\;&alpha
 \;&tau\;&alpha\; (CMYK + RGB)&bull\;&nbsp\; &nbsp\; &Pi\;&alpha\;&lambda\;
 έ&tau\;&alpha\; &Epsilon\;&rho\;&gamma\;&alpha\;&lambda\;&epsilon\;ί&omega
 \;&nu\; (&pi\;&alpha\;&rho\;&omicron\;&upsilon\;&sigma\;ί&alpha\;&sigma\;&
 eta\; - &epsilon\;&pi\;&epsilon\;&xi\;ή&gamma\;&eta\;&sigma\;&eta\; &epsil
 on\;&rho\;&gamma\;&alpha\;&lambda\;&epsilon\;ί&omega\;&nu\;)&nbsp\;&bull\;
 &nbsp\;&nbsp\;&nbsp\; Guides &amp\; Rulers &kappa\;&alpha\;&iota\; &chi\;&
 rho\;ή&sigma\;&eta\; &tau\;&omicron\;&upsilon\;&sigmaf\;&bull\;&nbsp\;&nbs
 p\;&nbsp\; &Rho\;ύ&theta\;&mu\;&iota\;&sigma\;&eta\; &tau\;&eta\;&sigmaf\;
  &Alpha\;&rho\;&chi\;ή&sigmaf\; &tau\;&omega\;&nu\; &Alpha\;&xi\;ό&nu\;&om
 ega\;&nu\; (= zero point)&bull\;&nbsp\;&nbsp\;&nbsp\; &Rho\;ύ&theta\;&mu\;
 &iota\;&sigma\;&eta\; &Pi\;&rho\;&omicron\;&delta\;&iota\;&alpha\;&gamma\;
 &rho\;&alpha\;&phi\;ώ&nu\; &Epsilon\;&phi\;&alpha\;&rho\;&mu\;&omicron\;&g
 amma\;ή&sigmaf\; (Preferences)&bull\;&nbsp\;&nbsp\;&nbsp\; &Mu\;&omicron\;
 &nu\;ά&delta\;&epsilon\;&sigmaf\; &Mu\;έ&tau\;&rho\;&eta\;&sigma\;&eta\;&s
 igmaf\; (cm - mm - points - picas - pixels)&bull\;&nbsp\;&nbsp\;&nbsp\; &S
 igma\;&chi\;&epsilon\;&delta\;&iota\;&alpha\;&sigma\;&mu\;ό&sigmaf\; &Pi\;
 &epsilon\;&rho\;ί&pi\;&lambda\;&omicron\;&kappa\;&omega\;&nu\; &Sigma\;&ch
 i\;&eta\;&mu\;ά&tau\;&omega\;&nu\; &mu\;&epsilon\; &kappa\;&alpha\;&mu\;&p
 i\;ύ&lambda\;&epsilon\;&sigmaf\; Bezier&nbsp\; &kappa\;&alpha\;&iota\; &Ep
 silon\;&pi\;&epsilon\;&xi\;&epsilon\;&rho\;&gamma\;&alpha\;&sigma\;ί&alpha
 \; &tau\;&omega\;&nu\; &kappa\;ό&mu\;&beta\;&omega\;&nu\; &tau\;&omicron\;
 &upsilon\;&sigmaf\;\n&bull\;&nbsp\; &nbsp\; &Epsilon\;&rho\;&gamma\;&alpha
 \;&lambda\;&epsilon\;ί&omicron\; &Mu\;&omicron\;&lambda\;ύ&beta\;&iota\;\,
  &Pi\;έ&nu\;&alpha\;\, &Sigma\;&pi\;&rho\;έ&iota\; &kappa\;&alpha\;&iota\;
  &Pi\;&iota\;&nu\;έ&lambda\;&omicron\; &kappa\;&alpha\;&iota\; &Chi\;&rho\
 ;ή&sigma\;&eta\; &Delta\;&iota\;&alpha\;&phi\;ό&rho\;&omega\;&nu\; Brushes
  (Brush Libraries)\n&bull\;&nbsp\;&nbsp\;&nbsp\; &Gamma\;έ&mu\;&iota\;&sig
 ma\;&mu\;&alpha\; &Nu\;&tau\;&epsilon\;&gamma\;&kappa\;&rho\;&alpha\;&nu\;
 &tau\;έ &kappa\;&alpha\;&iota\; &Epsilon\;&pi\;&epsilon\;&xi\;&epsilon\;&r
 ho\;&gamma\;&alpha\;&sigma\;ί&alpha\; &tau\;&omicron\;&upsilon\;&bull\;&nb
 sp\;&nbsp\;&nbsp\; &Delta\;&eta\;&mu\;&iota\;&omicron\;&upsilon\;&rho\;&ga
 mma\;ί&alpha\; &Kappa\;&alpha\;&lambda\;&lambda\;&iota\;&tau\;&epsilon\;&c
 hi\;&nu\;&iota\;&kappa\;&omicron\;ύ &Kappa\;&epsilon\;&iota\;&mu\;έ&nu\;&o
 micron\;&upsilon\;&bull\;&nbsp\;&nbsp\;&nbsp\; &Delta\;&eta\;&mu\;&iota\;&
 omicron\;&upsilon\;&rho\;&gamma\;ί&alpha\; &kappa\;&alpha\;&iota\; &Chi\;&
 rho\;ή&sigma\;&eta\; &pi\;&lambda\;&alpha\;&iota\;&sigma\;ί&omega\;&nu\; &
 kappa\;&epsilon\;&iota\;&mu\;έ&nu\;&omicron\;&upsilon\;&bull\;&nbsp\;&nbsp
 \;&nbsp\; &Mu\;&omicron\;&rho\;&phi\;&omicron\;&pi\;&omicron\;ί&eta\;&sigm
 a\;&eta\; &kappa\;&epsilon\;&iota\;&mu\;έ&nu\;&omicron\;&upsilon\; - &Beta
 \;&alpha\;&sigma\;&iota\;&kappa\;έ&sigmaf\; &Tau\;&upsilon\;&pi\;&omicron\
 ;&gamma\;&rho\;&alpha\;&phi\;&iota\;&kappa\;έ&sigmaf\; έ&nu\;&nu\;&omicron
 \;&iota\;&epsilon\;&sigmaf\;&bull\;&nbsp\;&nbsp\;&nbsp\; &Omicron\;&mu\;&a
 lpha\;&delta\;&omicron\;&pi\;&omicron\;ί&eta\;&sigma\;&eta\; &Alpha\;&nu\;
 &tau\;&iota\;&kappa\;&epsilon\;&iota\;&mu\;έ&nu\;&omega\;&nu\;&bull\;&nbsp
 \;&nbsp\;&nbsp\; &Kappa\;&lambda\;&epsilon\;ί&delta\;&omega\;&mu\;&alpha\;
  &kappa\;&alpha\;&iota\; &Xi\;&epsilon\;&kappa\;&lambda\;&epsilon\;ί&delta
 \;&omega\;&mu\;&alpha\; &epsilon\;&pi\;&iota\;&lambda\;&epsilon\;&gamma\;&
 mu\;έ&nu\;&omega\;&nu\; &alpha\;&nu\;&tau\;&iota\;&kappa\;&epsilon\;&iota\
 ;&mu\;έ&nu\;&omega\;&nu\;&bull\;&nbsp\;&nbsp\;&nbsp\; &Delta\;&iota\;ά&tau
 \;&alpha\;&xi\;&eta\; &Alpha\;&nu\;&tau\;&iota\;&kappa\;&epsilon\;&iota\;&
 mu\;έ&nu\;&omega\;&nu\; (to front \, to back \, behind)&bull\;&nbsp\;&nbsp
 \;&nbsp\; Έ&nu\;&omega\;&sigma\;&eta\;\, &Sigma\;&upsilon\;&gamma\;&chi\;ώ
 &nu\;&epsilon\;&upsilon\;&sigma\;&eta\; &kappa\;&alpha\;&iota\; &Tau\;&omi
 cron\;&mu\;ή &Alpha\;&nu\;&tau\;&iota\;&kappa\;&epsilon\;&iota\;&mu\;έ&nu\
 ;&omega\;&nu\;&bull\;&nbsp\;&nbsp\;&nbsp\; &Pi\;&alpha\;&lambda\;έ&tau\;&a
 lpha\; - &Chi\;&rho\;ή&sigma\;&eta\; &Chi\;&rho\;&omega\;&mu\;ά&tau\;&omeg
 a\;&nu\; Pantone &kappa\;&alpha\;&iota\; &Epsilon\;&pi\;&epsilon\;&xi\;ή&g
 amma\;&eta\;&sigma\;&eta\; &tau\;&omega\;&nu\; &Iota\;&delta\;&iota\;&omic
 ron\;&tau\;ή&tau\;&omega\;&nu\; &tau\;&omicron\;&upsilon\;&sigmaf\;&bull\;
 &nbsp\;&nbsp\;&nbsp\; X&epsilon\;&iota\;&rho\;&iota\;&sigma\;&mu\;ό&sigmaf
 \; &Mu\;&alpha\;&sigma\;&kappa\;&alpha\;&rho\;&iota\;&sigma\;&mu\;έ&nu\;&e
 ta\;&sigmaf\; &Epsilon\;&iota\;&kappa\;ό&nu\;&alpha\;&sigmaf\; (&epsilon\;
 &pi\;&epsilon\;&xi\;&epsilon\;&rho\;&gamma\;&alpha\;&sigma\;ί&alpha\;\, &m
 u\;&epsilon\;&tau\;&alpha\;&kappa\;ί&nu\;&eta\;&sigma\;&eta\;\, &tau\;&rho
 \;&omicron\;&pi\;&omicron\;&pi\;&omicron\;ί&eta\;&sigma\;&eta\; &sigma\;&c
 hi\;ή&mu\;&alpha\;&tau\;&omicron\;&sigmaf\; &mu\;ά&sigma\;&kappa\;&alpha\;
 &sigmaf\;)\n&bull\;&nbsp\;&nbsp\;&nbsp\; &Beta\;&alpha\;&sigma\;&iota\;&ka
 ppa\;ή &Epsilon\;&pi\;&epsilon\;&xi\;&epsilon\;&rho\;&gamma\;&alpha\;&sigm
 a\;ί&alpha\; &Epsilon\;&iota\;&kappa\;ό&nu\;&alpha\;&sigmaf\; &mu\;&epsilo
 n\; &tau\;&eta\; &chi\;&rho\;ή&sigma\;&eta\; &tau\;&omega\;&nu\; &phi\;ί&l
 ambda\;&tau\;&rho\;&omega\;&nu\;&bull\;&nbsp\;&nbsp\;&nbsp\; &Chi\;&rho\;ή
 &sigma\;&eta\; &Epsilon\;&phi\;έ &sigma\;&epsilon\; &Alpha\;&nu\;&tau\;&io
 ta\;&kappa\;&epsilon\;ί&mu\;&epsilon\;&nu\;&alpha\; &kappa\;&alpha\;&iota\
 ; &sigma\;&epsilon\; &Epsilon\;&iota\;&kappa\;ό&nu\;&epsilon\;&sigmaf\;&bu
 ll\;&nbsp\;&nbsp\;&nbsp\; &Delta\;&eta\;&mu\;&iota\;&omicron\;&upsilon\;&r
 ho\;&gamma\;ί&alpha\; &phi\;&alpha\;&kappa\;ώ&nu\; &kappa\;&alpha\;&iota\;
  &chi\;&rho\;ή&sigma\;&eta\; power clip.\n&Epsilon\;&pi\;&iota\;&lambda\;έ
 &xi\;&tau\;&epsilon\; &tau\;&omicron\; &pi\;&rho\;ό&gamma\;&rho\;&alpha\;&
 mu\;&mu\;&alpha\; &pi\;&omicron\;&upsilon\; &sigma\;&alpha\;&sigmaf\; &eps
 ilon\;&nu\;&delta\;&iota\;&alpha\;&phi\;έ&rho\;&epsilon\;&iota\; &kappa\;&
 alpha\;&iota\; &alpha\;&pi\;&omicron\;&kappa\;&tau\;ή&sigma\;&tau\;&epsilo
 n\; &kappa\;&alpha\;&iota\; &epsilon\;&sigma\;&epsilon\;ί&sigmaf\; &tau\;&
 iota\;&sigmaf\; &gamma\;&nu\;ώ&sigma\;&epsilon\;&iota\;&sigmaf\; &pi\;&omi
 cron\;&upsilon\; &alpha\;&pi\;έ&kappa\;&tau\;&eta\;&sigma\;&alpha\;&nu\; &
 sigma\;&epsilon\; &epsilon\;&mu\;ά&sigmaf\; &chi\;&iota\;&lambda\;&iota\;ά
 &delta\;&epsilon\;&sigmaf\; ά&nu\;&theta\;&rho\;&omega\;&pi\;&omicron\;&io
 ta\; &pi\;&omicron\;&upsilon\; &mu\;&alpha\;&sigmaf\; &epsilon\;&mu\;&pi\;
 &iota\;&sigma\;&tau\;&epsilon\;ύ&theta\;&eta\;&kappa\;&alpha\;&nu\; &alpha
 \;&pi\;ό &tau\;&omicron\; 1992 έ&omega\;&sigmaf\; &sigma\;ή&mu\;&epsilon\;
 &rho\;&alpha\;..\n https://www.hellasnetwork.gr/σεμιναρια/εναρξεις/event/2
 55-σεμινάρια-γραφιστικής-graphic-design-με-photoshop\,-illustrator\,-corel
 draw.html
DTSTART;VALUE=DATE:20160707
LOCATION:Hellas Network Co ΚΔΒΜ (Ακαδημίας 52\, Αθήνα 106 79\, Ελλάδα)
SUMMARY:Σεμινάρια Γραφιστικής Graphic Design με Photoshop\, Illustrator\, C
 orelDraw
URL:https://www.hellasnetwork.gr/σεμιναρια/εναρξεις/event/255-σεμινάρια-γρα
 φιστικής-graphic-design-με-photoshop,-illustrator,-coreldraw.html
END:VEVENT
END:VCALENDAR
