BEGIN:VCALENDAR
VERSION:2.0
PRODID:-//https://www.hellasnetwork.gr///NONSGML kigkonsult.se iCalcreator 2.10.15//
METHOD:PUBLISH
BEGIN:VEVENT
UID:20260420T111643UTC-05874AUtmD@https://www.hellasnetwork.gr/
DTSTAMP:20260420T111643Z
DESCRIPTION:&Sigma\;&epsilon\;&mu\;&iota\;&nu\;ά&rho\;&iota\;&omicron\; Mar
 keting &amp\; &Pi\;&omega\;&lambda\;ή&sigma\;&epsilon\;&omega\;&nu\;&nbsp\
 ;\n\n&Eta\; &pi\;ώ&lambda\;&eta\;&sigma\;&eta\; &omega\;&sigmaf\; &epsilon
 \;&pi\;ά&gamma\;&gamma\;&epsilon\;&lambda\;&mu\;&alpha\;\, &epsilon\;ί&nu\
 ;&alpha\;&iota\; &kappa\;ά&tau\;&iota\; &pi\;&omicron\;&upsilon\; &tau\;&r
 ho\;&omicron\;&mu\;&omicron\;&kappa\;&rho\;&alpha\;&tau\;&epsilon\;ί &tau\
 ;&omicron\;&upsilon\;&sigmaf\; &pi\;&epsilon\;&rho\;&iota\;&sigma\;&sigma\
 ;ό&tau\;&epsilon\;&rho\;&omicron\;&upsilon\;&sigmaf\; &alpha\;&nu\;&theta\
 ;&rho\;ώ&pi\;&omicron\;&upsilon\;&sigmaf\;. &Kappa\;&iota\; ό&mu\;&omega\;
 &sigmaf\; &eta\; &pi\;ώ&lambda\;&eta\;&sigma\;&eta\; &alpha\;&pi\;&omicron
 \;&tau\;&epsilon\;&lambda\;&epsilon\;ί &tau\;ό&sigma\;&omicron\; &alpha\;&
 nu\;&alpha\;&pi\;ό&sigma\;&pi\;&alpha\;&sigma\;&tau\;&omicron\; &mu\;έ&rho
 \;&omicron\;&sigmaf\; &tau\;&eta\;&sigmaf\; &lambda\;&epsilon\;&iota\;&tau
 \;&omicron\;&upsilon\;&rho\;&gamma\;ί&alpha\;&sigmaf\; &mu\;&iota\;&alpha\
 ;&sigmaf\; &epsilon\;&pi\;&iota\;&chi\;&epsilon\;ί&rho\;&eta\;&sigma\;&eta
 \;&sigmaf\;&nbsp\;&pi\;&omicron\;&upsilon\; &omicron\;&iota\; &kappa\;&alp
 ha\;&lambda\;&omicron\;ί &pi\;&omega\;&lambda\;&eta\;&tau\;έ&sigmaf\; έ&ch
 i\;&omicron\;&upsilon\;&nu\; &mu\;&epsilon\;&gamma\;ά&lambda\;&eta\; &zeta
 \;ή&tau\;&eta\;&sigma\;&eta\;.\n&Eta\; &epsilon\;&pi\;&iota\;&tau\;&upsilo
 n\;&chi\;&eta\;&mu\;έ&nu\;&eta\; &pi\;ώ&lambda\;&eta\;&sigma\;&eta\; &delt
 a\;&epsilon\;&nu\; &epsilon\;ί&nu\;&alpha\;&iota\; &mu\;&iota\;&alpha\; &p
 i\;&omicron\;&rho\;&epsilon\;ί&alpha\; &ldquo\;&tau\;&upsilon\;&phi\;&lamb
 da\;ή&sigmaf\; &pi\;&tau\;ή&sigma\;&eta\;&sigmaf\;&rdquo\;. &Sigma\;&tau\;
 &eta\;&nu\; &pi\;&rho\;&alpha\;&gamma\;&mu\;&alpha\;&tau\;&iota\;&kappa\;ό
 &tau\;&eta\;&tau\;&alpha\; &epsilon\;ί&nu\;&alpha\;&iota\; έ&nu\;&alpha\; 
 &delta\;&omicron\;&mu\;&eta\;&mu\;έ&nu\;&omicron\; &sigma\;ύ&nu\;&omicron\
 ;&lambda\;&omicron\; &sigma\;&upsilon\;&sigma\;&tau\;&eta\;&mu\;ά&tau\;&om
 ega\;&nu\; &pi\;&omicron\;&upsilon\; &tau\;&omicron\; &mu\;&alpha\;&theta\
 ;&alpha\;ί&nu\;&omicron\;&upsilon\;&nu\; ό&lambda\;&omicron\;&iota\; &omic
 ron\;&iota\; &kappa\;&alpha\;&lambda\;&omicron\;ί &epsilon\;&pi\;&alpha\;&
 gamma\;&gamma\;&epsilon\;&lambda\;&mu\;&alpha\;&tau\;ί&epsilon\;&sigmaf\;.
 \n&Sigma\;&kappa\;&omicron\;&pi\;ό&sigmaf\; &tau\;&omicron\;&upsilon\; &si
 gma\;&epsilon\;&mu\;&iota\;&nu\;&alpha\;&rho\;ί&omicron\;&upsilon\; &epsil
 on\;ί&nu\;&alpha\;&iota\;:\n&bull\;&nbsp\;&nbsp\;&nbsp\; &Nu\;&alpha\; &de
 lta\;ώ&sigma\;&epsilon\;&iota\; &tau\;&eta\;&nu\; &epsilon\;&upsilon\;&kap
 pa\;&alpha\;&iota\;&rho\;ί&alpha\; &sigma\;&tau\;&omicron\;&upsilon\;&sigm
 af\; &sigma\;&upsilon\;&mu\;&mu\;&epsilon\;&tau\;έ&chi\;&omicron\;&nu\;&ta
 u\;&epsilon\;&sigmaf\; &nu\;&alpha\; &alpha\;&nu\;&alpha\;&nu\;&epsilon\;ώ
 &sigma\;&omicron\;&upsilon\;&nu\; &kappa\;&alpha\;&iota\; &nu\;&alpha\; &d
 elta\;&iota\;&epsilon\;&upsilon\;&rho\;ύ&nu\;&omicron\;&upsilon\;&nu\; &ta
 u\;&iota\;&sigmaf\; &epsilon\;&pi\;&alpha\;&gamma\;&gamma\;&epsilon\;&lamb
 da\;&mu\;&alpha\;&tau\;&iota\;&kappa\;έ&sigmaf\; &tau\;&omicron\;&upsilon\
 ;&sigmaf\; &gamma\;&nu\;ώ&sigma\;&epsilon\;&iota\;&sigmaf\;.&nbsp\;&bull\;
 &nbsp\;&nbsp\;&nbsp\; &Nu\;&alpha\; &gamma\;ί&nu\;&omicron\;&upsilon\;&nu\
 ; &alpha\;&pi\;&omicron\;&delta\;&omicron\;&tau\;&iota\;&kappa\;ό&tau\;&ep
 silon\;&rho\;&omicron\;&iota\; &sigma\;&tau\;&eta\;&nu\; &epsilon\;&rho\;&
 gamma\;&alpha\;&sigma\;ί&alpha\; &tau\;&omicron\;&upsilon\;&sigmaf\; &chi\
 ;&rho\;&eta\;&sigma\;&iota\;&mu\;&omicron\;&pi\;&omicron\;&iota\;ώ&nu\;&ta
 u\;&alpha\;&sigmaf\; &nu\;έ&epsilon\;&sigmaf\; &epsilon\;&xi\;&epsilon\;&l
 ambda\;&iota\;&gamma\;&mu\;έ&nu\;&epsilon\;&sigmaf\; &tau\;&epsilon\;&chi\
 ;&nu\;&iota\;&kappa\;έ&sigmaf\; &pi\;&omega\;&lambda\;ή&sigma\;&epsilon\;&
 omega\;&nu\;.&nbsp\;&bull\;&nbsp\;&nbsp\;&nbsp\; &Nu\;&alpha\; &tau\;&omic
 ron\;&upsilon\;&sigmaf\; &kappa\;ά&nu\;&epsilon\;&iota\; &iota\;&kappa\;&a
 lpha\;&nu\;&omicron\;ύ&sigmaf\; ώ&sigma\;&tau\;&epsilon\; &nu\;&alpha\; &e
 psilon\;&phi\;&alpha\;&rho\;&mu\;ό&sigma\;&omicron\;&upsilon\;&nu\; ά&mu\;
 &epsilon\;&sigma\;&alpha\; &tau\;&iota\;&sigmaf\; &tau\;&epsilon\;&chi\;&n
 u\;&iota\;&kappa\;έ&sigmaf\; &pi\;&omega\;&lambda\;ή&sigma\;&epsilon\;&ome
 ga\;&nu\;.&nbsp\;&bull\;&nbsp\;&nbsp\;&nbsp\; &Nu\;&alpha\; &alpha\;&nu\;&
 tau\;&iota\;&mu\;&epsilon\;&tau\;&omega\;&pi\;ί&zeta\;&omicron\;&upsilon\;
 &nu\; &kappa\;&alpha\;&iota\; &nu\;&alpha\; &chi\;&epsilon\;&iota\;&rho\;ί
 &zeta\;&omicron\;&nu\;&tau\;&alpha\;&iota\; &mu\;&epsilon\; &mu\;&epsilon\
 ;&gamma\;&alpha\;&lambda\;ύ&tau\;&epsilon\;&rho\;&eta\; &alpha\;&pi\;&omic
 ron\;&tau\;&epsilon\;&lambda\;&epsilon\;&sigma\;&mu\;&alpha\;&tau\;&iota\;
 &kappa\;ό&tau\;&eta\;&tau\;&alpha\; ό&lambda\;&epsilon\;&sigmaf\; &tau\;&i
 ota\;&sigmaf\; &kappa\;&alpha\;&tau\;&alpha\;&sigma\;&tau\;ά&sigma\;&epsil
 on\;&iota\;&sigmaf\; &pi\;&omicron\;&upsilon\; &pi\;&rho\;&omicron\;&kappa
 \;ύ&pi\;&tau\;&omicron\;&upsilon\;&nu\; &sigma\;&epsilon\; έ&nu\;&alpha\; 
 &pi\;&omega\;&lambda\;&eta\;&tau\;ή.&nbsp\;&bull\;&nbsp\;&nbsp\;&nbsp\; &N
 u\;&alpha\; &delta\;ώ&sigma\;&epsilon\;&iota\; &delta\;&upsilon\;&nu\;&alp
 ha\;&tau\;ό&tau\;&eta\;&tau\;&alpha\; &nu\;&alpha\; &kappa\;ά&nu\;&omicron
 \;&upsilon\;&nu\; &pi\;&alpha\;&rho\;&omicron\;&upsilon\;&sigma\;&iota\;ά&
 sigma\;&epsilon\;&iota\;&sigmaf\; &mu\;&epsilon\; &pi\;&epsilon\;&rho\;&io
 ta\;&sigma\;&sigma\;ό&tau\;&epsilon\;&rho\;&omicron\; &epsilon\;&pi\;&alph
 a\;&gamma\;&gamma\;&epsilon\;&lambda\;&mu\;&alpha\;&tau\;&iota\;&kappa\;ό 
 &tau\;&rho\;ό&pi\;&omicron\;.&nbsp\;&bull\;&nbsp\;&nbsp\;&nbsp\; &Nu\;&alp
 ha\; &kappa\;&lambda\;&epsilon\;ί&nu\;&omicron\;&upsilon\;&nu\; &pi\;&omeg
 a\;&lambda\;ή&sigma\;&epsilon\;&iota\;&sigmaf\; &kappa\;&alpha\;&iota\; &n
 u\;&alpha\; &zeta\;&eta\;&tau\;&omicron\;ύ&nu\; &pi\;&alpha\;&rho\;&alpha\
 ;&gamma\;&gamma\;&epsilon\;&lambda\;ί&epsilon\;&sigmaf\; &mu\;&epsilon\; &
 mu\;&epsilon\;&gamma\;&alpha\;&lambda\;ύ&tau\;&epsilon\;&rho\;&eta\; ά&nu\
 ;&epsilon\;&sigma\;&eta\; &kappa\;&alpha\;&iota\; &sigma\;&iota\;&gamma\;&
 omicron\;&upsilon\;&rho\;&iota\;ά.\n&Alpha\;&pi\;&epsilon\;&upsilon\;&thet
 a\;ύ&nu\;&epsilon\;&tau\;&alpha\;&iota\; &sigma\;&epsilon\;:\n&bull\;&nbsp
 \;&nbsp\;&nbsp\; &Pi\;&omega\;&lambda\;&eta\;&tau\;έ&sigmaf\;&nbsp\;&bull\
 ;&nbsp\;&nbsp\;&nbsp\; &Pi\;&rho\;&omicron\;ϊ&sigma\;&tau\;&alpha\;&mu\;έ&
 nu\;&omicron\;&upsilon\;&sigmaf\; &Tau\;&mu\;&eta\;&mu\;ά&tau\;&omega\;&nu
 \; &Pi\;&omega\;&lambda\;ή&sigma\;&epsilon\;&omega\;&nu\;&nbsp\;&bull\;&nb
 sp\;&nbsp\;&nbsp\; &Sigma\;&epsilon\; ό&lambda\;&alpha\; &tau\;&alpha\; &s
 igma\;&tau\;&epsilon\;&lambda\;έ&chi\;&eta\; &pi\;&omicron\;ύ &alpha\;&sig
 ma\;&chi\;&omicron\;&lambda\;&omicron\;ύ&nu\;&tau\;&alpha\;&iota\; &mu\;&e
 psilon\; &pi\;&omega\;&lambda\;ή&sigma\;&epsilon\;&iota\;&sigmaf\;\n&Theta
 \;&alpha\; &mu\;ά&theta\;&epsilon\;&tau\;&epsilon\;:\n&bull\;&nbsp\;&nbsp\
 ;&nbsp\; &Pi\;&omega\;&sigmaf\; &kappa\;ά&nu\;&epsilon\;&iota\;&sigmaf\; &
 tau\;&eta\;&nu\; &pi\;&rho\;ώ&tau\;&eta\; &epsilon\;&pi\;&alpha\;&phi\;ή -
  &tau\;&eta\;&nu\; &pi\;&rho\;ώ&tau\;&eta\; &epsilon\;&nu\;&tau\;ύ&pi\;&om
 ega\;&sigma\;&eta\;&nbsp\;&bull\;&nbsp\;&nbsp\;&nbsp\; &Pi\;&omega\;&sigma
 f\; &tau\;&omicron\;&pi\;&omicron\;&theta\;&epsilon\;&tau\;&epsilon\;ί&sig
 maf\; &tau\;&omicron\;&nu\; &epsilon\;&alpha\;&upsilon\;&tau\;ό &sigma\;&o
 micron\;&upsilon\; &alpha\;&pi\;έ&nu\;&alpha\;&nu\;&tau\;&iota\; &sigma\;&
 tau\;&omicron\;&upsilon\;&sigmaf\; &pi\;&epsilon\;&lambda\;ά&tau\;&epsilon
 \;&sigmaf\;&nbsp\;&bull\;&nbsp\;&nbsp\;&nbsp\; &Pi\;&omega\;&sigmaf\; &alp
 ha\;&nu\;&omicron\;ί&gamma\;&epsilon\;&iota\;&sigmaf\; &tau\;&eta\;&nu\; &
 sigma\;&upsilon\;&nu\;&omicron\;&mu\;&iota\;&lambda\;ί&alpha\;&nbsp\;&bull
 \;&nbsp\;&nbsp\;&nbsp\; &Pi\;&omega\;&sigmaf\; &delta\;ί&nu\;&epsilon\;&io
 ta\;&sigmaf\; &tau\;&eta\;&nu\; &sigma\;&omega\;&sigma\;&tau\;ή &pi\;&lamb
 da\;&eta\;&rho\;&omicron\;&phi\;&omicron\;&rho\;ί&alpha\; &gamma\;&iota\;&
 alpha\; &tau\;&alpha\; &pi\;&rho\;&omicron\;ϊό&nu\;&tau\;&alpha\; &eta\; &
 upsilon\;&pi\;&eta\;&rho\;&epsilon\;&sigma\;ί&epsilon\;&sigmaf\;&nbsp\;&bu
 ll\;&nbsp\;&nbsp\;&nbsp\; &Pi\;&omega\;&sigmaf\; &xi\;&epsilon\;&pi\;&epsi
 lon\;&rho\;&nu\;ά&sigmaf\; &tau\;&alpha\; &epsilon\;&mu\;&pi\;ό&delta\;&io
 ta\;&alpha\; &sigma\;&tau\;&eta\;&nu\; &delta\;&iota\;ά&rho\;&kappa\;&epsi
 lon\;&iota\;&alpha\; &tau\;&eta\;&sigmaf\; &pi\;ώ&lambda\;&eta\;&sigma\;&e
 ta\;&sigmaf\;&bull\;&nbsp\;&nbsp\;&nbsp\; &Pi\;&omega\;&sigmaf\; &beta\;&o
 micron\;&eta\;&theta\;ά&sigmaf\; &tau\;&omicron\;&upsilon\;&sigmaf\; &pi\;
 &epsilon\;&lambda\;ά&tau\;&epsilon\;&sigmaf\; &nu\;&alpha\; &alpha\;&gamma
 \;&omicron\;&rho\;ά&sigma\;&omicron\;&upsilon\;&nu\;&nbsp\;&bull\;&nbsp\;&
 nbsp\;&nbsp\; &Pi\;&omega\;&sigmaf\; &kappa\;&lambda\;&epsilon\;ί&nu\;&eps
 ilon\;&iota\;&sigmaf\; &tau\;&eta\;&nu\; &pi\;ώ&lambda\;&eta\;&sigma\;&eta
 \;&nbsp\;&bull\;&nbsp\;&nbsp\;&nbsp\; &Pi\;&omega\;&sigmaf\; &pi\;&rho\;&o
 micron\;&tau\;&epsilon\;ί&nu\;&epsilon\;&iota\;&sigmaf\; &epsilon\;&pi\;&i
 ota\;&pi\;&lambda\;έ&omicron\;&nu\; upsale &pi\;&rho\;&omicron\;ϊό&nu\;&ta
 u\;&alpha\;&nbsp\;&bull\;&nbsp\;&nbsp\;&nbsp\; &Pi\;&omega\;&sigmaf\; &kap
 pa\;&tau\;ί&zeta\;&epsilon\;&iota\;&sigmaf\; &sigma\;&chi\;έ&sigma\;&epsil
 on\;&iota\;&sigmaf\; &mu\;&epsilon\; &pi\;&epsilon\;&lambda\;ά&tau\;&epsil
 on\;&sigmaf\;\n&nbsp\;&Eta\; &epsilon\;&pi\;&iota\;&tau\;&upsilon\;&chi\;&
 eta\;&mu\;έ&nu\;&eta\; &pi\;ώ&lambda\;&eta\;&sigma\;&eta\; &phi\;έ&rho\;&n
 u\;&epsilon\;&iota\; &mu\;&epsilon\;&gamma\;ά&lambda\;&eta\; &epsilon\;&up
 silon\;&eta\;&mu\;&epsilon\;&rho\;ί&alpha\;\, &epsilon\;&pi\;&alpha\;&gamm
 a\;&gamma\;&epsilon\;&lambda\;&mu\;&alpha\;&tau\;&iota\;&kappa\;ή ά&nu\;&o
 micron\;&delta\;&omicron\;\, &iota\;&kappa\;&alpha\;&nu\;&omicron\;&pi\;&o
 micron\;ί&eta\;&sigma\;&eta\; &kappa\;&alpha\;&iota\; &pi\;&rho\;&omicron\
 ;&sigma\;&omega\;&pi\;&iota\;&kappa\;ή &alpha\;&nu\;ά&pi\;&tau\;&upsilon\;
 &xi\;&eta\;.\n\n&Delta\;&iota\;ά&rho\;&kappa\;&epsilon\;&iota\;&alpha\;: 3
 0 ώ&rho\;&epsilon\;&sigmaf\;&Kappa\;ό&sigma\;&tau\;&omicron\;&sigmaf\;: &e
 uro\; 395\nΏ&rho\;&epsilon\;&sigmaf\; &Delta\;&iota\;&epsilon\;&xi\;&alpha
 \;&gamma\;&omega\;&gamma\;ή&sigmaf\; &Sigma\;&epsilon\;&mu\;&iota\;&nu\;&a
 lpha\;&rho\;ί&omicron\;&upsilon\;:&Kappa\;&alpha\;&theta\;&eta\;&mu\;&epsi
 lon\;&rho\;&iota\;&nu\;ά: 10.00-13.00\, ή 13.00-16.00\, ή 16.00-19.00\, ή 
 19.00-22.00&Sigma\;ά&beta\;&beta\;&alpha\;&tau\;&omicron\;: 10.00-13.00\n
 \n&Mu\;&epsilon\; &tau\;&eta\;&nu\; &pi\;&alpha\;&rho\;&alpha\;&kappa\;&om
 icron\;&lambda\;&omicron\;ύ&theta\;&eta\;&sigma\;&eta\; &tau\;&omicron\;&u
 psilon\; &sigma\;&epsilon\;&mu\;&iota\;&nu\;&alpha\;&rho\;ί&omicron\;&upsi
 lon\;\, &sigma\;&alpha\;&sigmaf\; &pi\;&rho\;&omicron\;&sigma\;&phi\;έ&rho
 \;&omicron\;&upsilon\;&mu\;&epsilon\; &epsilon\;&pi\;&iota\;&pi\;&lambda\;
 έ&omicron\;&nu\;:\n&bull\;&nbsp\;&nbsp\;&nbsp\; &Beta\;&epsilon\;&beta\;&a
 lpha\;ί&omega\;&sigma\;&eta\; &Pi\;&alpha\;&rho\;&alpha\;&kappa\;&omicron\
 ;&lambda\;&omicron\;ύ&theta\;&eta\;&sigma\;&eta\;&sigmaf\;&bull\;&nbsp\;&n
 bsp\;&nbsp\; &Pi\;&rho\;&omicron\;ώ&theta\;&eta\;&sigma\;&eta\; &Beta\;&io
 ta\;&omicron\;&gamma\;&rho\;&alpha\;&phi\;&iota\;&kappa\;&omicron\;ύ &sigm
 a\;&epsilon\; &Epsilon\;&lambda\;&lambda\;&eta\;&nu\;&iota\;&kappa\;έ&sigm
 af\; &amp\; &Pi\;&omicron\;&lambda\;&upsilon\;&epsilon\;&theta\;&nu\;&iota
 \;&kappa\;έ&sigmaf\; &Epsilon\;&pi\;&iota\;&chi\;&epsilon\;&iota\;&rho\;ή&
 sigma\;&epsilon\;&iota\;&sigmaf\;.\n&Epsilon\;&pi\;&iota\;&lambda\;έ&xi\;&
 tau\;&epsilon\; &tau\;&omicron\; &pi\;&rho\;ό&gamma\;&rho\;&alpha\;&mu\;&m
 u\;&alpha\; &pi\;&omicron\;&upsilon\; &sigma\;&alpha\;&sigmaf\; &epsilon\;
 &nu\;&delta\;&iota\;&alpha\;&phi\;έ&rho\;&epsilon\;&iota\; &kappa\;&alpha\
 ;&iota\; &alpha\;&pi\;&omicron\;&kappa\;&tau\;ή&sigma\;&tau\;&epsilon\; &k
 appa\;&alpha\;&iota\; &epsilon\;&sigma\;&epsilon\;ί&sigmaf\; &tau\;&iota\;
 &sigmaf\; &gamma\;&nu\;ώ&sigma\;&epsilon\;&iota\;&sigmaf\; &pi\;&omicron\;
 &upsilon\; &alpha\;&pi\;έ&kappa\;&tau\;&eta\;&sigma\;&alpha\;&nu\; &sigma\
 ;&epsilon\; &epsilon\;&mu\;ά&sigmaf\; &chi\;&iota\;&lambda\;&iota\;ά&delta
 \;&epsilon\;&sigmaf\; ά&nu\;&theta\;&rho\;&omega\;&pi\;&omicron\;&iota\; &
 pi\;&omicron\;&upsilon\; &mu\;&alpha\;&sigmaf\; &epsilon\;&mu\;&pi\;&iota\
 ;&sigma\;&tau\;&epsilon\;ύ&theta\;&eta\;&kappa\;&alpha\;&nu\; &alpha\;&pi\
 ;ό &tau\;&omicron\; 1992 έ&omega\;&sigmaf\; &sigma\;ή&mu\;&epsilon\;&rho\;
 &alpha\;... https://www.hellasnetwork.gr/σεμιναρια/εναρξεις/event/94-σεμιν
 άρια-πωλήσεων-marketing-30-ωρών.html
DTSTART;VALUE=DATE:20160118
LOCATION:Hellas Network Co ΚΔΒΜ (Ακαδημίας 52\, Αθήνα 106 79\, Ελλάδα)
SUMMARY:Σεμινάρια Πωλήσεων & Marketing 30 ωρών 
URL:https://www.hellasnetwork.gr/σεμιναρια/εναρξεις/event/94-σεμινάρια-πωλή
 σεων-marketing-30-ωρών.html
END:VEVENT
END:VCALENDAR
